BEGIN:VCALENDAR
VERSION:2.0
PRODID:-//pretix//pretix.de//
BEGIN:VTIMEZONE
TZID:Europe/Berlin
BEGIN:STANDARD
DTSTART:20001029T040000
RRULE:FREQ=YEARLY;BYDAY=-1SU;BYMONTH=10
TZNAME:CET
TZOFFSETFROM:+0200
TZOFFSETTO:+0100
END:STANDARD
BEGIN:DAYLIGHT
DTSTART:20000326T030000
RRULE:FREQ=YEARLY;BYDAY=-1SU;BYMONTH=3
TZNAME:CEST
TZOFFSETFROM:+0100
TZOFFSETTO:+0200
END:DAYLIGHT
END:VTIMEZONE
BEGIN:VEVENT
UID:pretix-godotfest-26-0@tickets.godotfest.com
DTSTART;TZID=Europe/Berlin:20261111T090000
DTEND;TZID=Europe/Berlin:20261112T190000
DESCRIPTION:Tickets: https://tickets.godotfest.com/godotfest/26/\nOrganizer
 : GodotFest
DTSTAMP:20260424T190054Z
LOCATION:smartvillage Bogenhausen\, Rosenkavalierpl. 13\, 81925 München\, 
 Germany
SUMMARY:GodotFest 26
END:VEVENT
END:VCALENDAR
